BEGIN:VCALENDAR
VERSION:2.0
PRODID:-//SPD Schleswig-Holstein. - ECPv5.14.1//NONSGML v1.0//EN
CALSCALE:GREGORIAN
METHOD:PUBLISH
X-WR-CALNAME:SPD Schleswig-Holstein.
X-ORIGINAL-URL:https://www.spd-schleswig-holstein.de
X-WR-CALDESC:Veranstaltungen für SPD Schleswig-Holstein.
REFRESH-INTERVAL;VALUE=DURATION:PT1H
X-Robots-Tag:noindex
X-PUBLISHED-TTL:PT1H
BEGIN:VTIMEZONE
TZID:Europe/Berlin
BEGIN:DAYLIGHT
TZOFFSETFROM:+0100
TZOFFSETTO:+0200
TZNAME:CEST
DTSTART:20220327T010000
END:DAYLIGHT
BEGIN:STANDARD
TZOFFSETFROM:+0200
TZOFFSETTO:+0100
TZNAME:CET
DTSTART:20221030T010000
END:STANDARD
END:VTIMEZONE
BEGIN:VEVENT
DTSTART;TZID=Europe/Berlin:20220511T193000
DTEND;TZID=Europe/Berlin:20220511T213000
DTSTAMP:20220514T025925
CREATED:20220503T192632Z
LAST-MODIFIED:20220508T081751Z
UID:18954-1652297400-1652304600@www.spd-schleswig-holstein.de
SUMMARY:SPD Kiel: Kreisausschuss "Reflexion der Landtagswahl"
DESCRIPTION:Der Kreisausschusses findet in PRÄSENZ und außer der Reihe am zweiten Mittwoch des Monats statt\, um die Landtagswahl 2022 zu reflektieren. \nZur Vorbereitung der Sitzung sind alle Mitglieder eingeladen\, an einer minikurzen Umfrage zu Euren Eindrücken des Landtagswahlkampfes teilzunehmen. Dafür geht auf die Seite www.menti.com\, gebt den Code 95 79 48 7 ein und beantwortet zwei kurze Fragen. Die Umfrage läuft bis zum 08.05.2022\, die Ergebnisse werden auf der Sitzung präsentiert. \nWir laden parteiöffentlich und kreisweit alle Mitglieder ein zum \nKreisausschuss der SPD Kiel \nMittwoch\, 11. Mai 2022\, 19:30 Uhr \n(Einlass ab 19:00 Uhr) \nDie Pumpe\, Seminarraum\, 2. OG rechts \nFolgende Tagesordnung schlagen wir Euch vor: \n1. Feststellung der Beschlussfähigkeit \n2. Beschluss des Protokolls der Kreisausschusssitzung vom 20.04.2022 \n3. Aussprache zur Landtagswahl 2022 \n4. Aussprache zu den Berichten aus \na) Kreisvorstand \nb) Ratsfraktion \nc) Landtagsfraktion \nd) Bundestagsfraktion \n5. Verschiedenes \nWir bitten darum\, die unter Tagesordnungspunkt 4 genannten Berichte bis zum 09.05.2022 schriftlich an uns zu schicken\, weil auf der Sitzung Nachfragen und Diskussion im Mittelpunkt stehen sollen. Die Berichte können auch die Form von bereits verschickten aktuellen Newslettern erhalten. Wir leiten diese dann vor der Sitzung an die Delegierten weiter. \nWir bitten nachdrücklich darum\, die Hygiene-Regelungen einzuhalten\, das Tragen einer medizinischen Gesichtsmaske und ein vorsorglicher aktueller Corona-Test helfen dabei\, Ansteckungsgefahren zu minimieren. \nWir freuen uns auf Euch! \nLiebe Grüße \nKatharina & Christoph
URL:https://www.spd-schleswig-holstein.de/termin/spd-kiel-kreisausschuss-reflexion-der-landtagswahl/
LOCATION:Landeshaus\, Düsternbrooker Weg 70\, Kiel\, Schleswig-Holstein\, 24105\, Deutschland
END:VEVENT
BEGIN:VEVENT
DTSTART;TZID=Europe/Berlin:20220510T193000
DTEND;TZID=Europe/Berlin:20220510T213000
DTSTAMP:20220514T025925
CREATED:20190901T152851Z
LAST-MODIFIED:20220503T195204Z
UID:18049-1652211000-1652218200@www.spd-schleswig-holstein.de
SUMMARY:SPD Kiel: Kreisvorstandssitzung
DESCRIPTION:Wir schlagen Euch folgende Tagesordnung vor: \n\nBegrüßung\, Feststellung der Beschlussfähigkeit und Beschluss der Tagesordnung\nAktuelle Stunde: Thema Ergebnis Landtagswahl\nAG A21 und Anbindung an das Kieler Straßennetz unter besonderer Berücksichtigung des Ostufers:\nVorstellung des aktuellen Positionspapiers\nFinanzen\nMitglieder\nTermine\nVerschiedenes
URL:https://www.spd-schleswig-holstein.de/termin/spd-kiel-kreisvorstandssitzung-4/
LOCATION:Landeshaus\, Düsternbrooker Weg 70\, Kiel\, Schleswig-Holstein\, 24105\, Deutschland
END:VEVENT
BEGIN:VEVENT
DTSTART;TZID=Europe/Berlin:20220509T190000
DTEND;TZID=Europe/Berlin:20220509T210000
DTSTAMP:20220514T025925
CREATED:20220422T102759Z
LAST-MODIFIED:20220422T102808Z
UID:18836-1652122800-1652130000@www.spd-schleswig-holstein.de
SUMMARY:Parteiöffentliche Landesvorstandssitzung
DESCRIPTION:Liebe Genossinnen und Genossen\, \n  \nam Tag nach der Landtagswahl findet eine erweiterte/parteiöffentliche Landesvorstandssitzung statt. Wir werden das Wahlergebnis gemeinsam analysieren und ggfs. erste weitere Schritte vereinbaren: \nMontag\, 09. Mai 2022 \n19:00 Uhr \n„Haus des Sports“ \nWinterbeker Weg 49\, 24114 Kiel \n  \nFür unsere gemeinsamen Gesundheit: Bitte haltet euren Impfausweis griffbereit\, kommt mit Maske und negativem tagesaktuellem Schnelltest (ein Selbsttest auf Vertrauensbasis reicht aus). \n  \nAls Tagesordnung ist vorgesehen: \n  \n\nLandtagswahl 2022 – Der Tag danach: Erste Analysen und Verabredungen\n\n  \n\nBerichte und Termine\n\n  \n\nVerschiedenes/Kurzinformationen/Zwischenstände\, inkl. nicht öffentlicher Teil (Mitgliedsangelegenheit)
URL:https://www.spd-schleswig-holstein.de/termin/parteioeffentliche-landesvorstandssitzung/
LOCATION:Landeshaus\, Düsternbrooker Weg 70\, Kiel\, Schleswig-Holstein\, 24105\, Deutschland
END:VEVENT
BEGIN:VEVENT
DTSTART;TZID=Europe/Berlin:20220508T170000
DTEND;TZID=Europe/Berlin:20220508T220000
DTSTAMP:20220514T025925
CREATED:20220410T144544Z
LAST-MODIFIED:20220508T081641Z
UID:18707-1652029200-1652047200@www.spd-schleswig-holstein.de
SUMMARY:SPD Kiel: Wahlparty
DESCRIPTION:Wir laden euch zur traditionellen Wahlparty ein. Wir wollen gemeinsam den Wahlabend verbringen – und am liebsten natürlich einen Sieg am Ende feiern! \nWir bitten euch \n\num 3G (geimpft\, genesen oder getestet). Das Tragen von Masken reduziert das Ansteckungsrisiko.\neinen Beitrag zum Buffet\, den man mit Fingern essen.
URL:https://www.spd-schleswig-holstein.de/termin/spd-kiel-wahlparty-2/
LOCATION:Landeshaus\, Düsternbrooker Weg 70\, Kiel\, Schleswig-Holstein\, 24105\, Deutschland
END:VEVENT
BEGIN:VEVENT
DTSTART;TZID=Europe/Berlin:20220508T100000
DTEND;TZID=Europe/Berlin:20220508T150000
DTSTAMP:20220514T025925
CREATED:20220503T200855Z
LAST-MODIFIED:20220503T201446Z
UID:18959-1652004000-1652022000@www.spd-schleswig-holstein.de
SUMMARY:SPD Kiel: Wahltaxi
DESCRIPTION:Mitglieder\, die Unterstützung bei dem Weg zum Wahllokal brauchen\, können zwischen 10 und 15 Uhr im Kreisbüro anrufen. Die Nummer lautet: 0431 / 90 60 6-12.
URL:https://www.spd-schleswig-holstein.de/termin/spd-kiel-wahltaxi/
LOCATION:Landeshaus\, Düsternbrooker Weg 70\, Kiel\, Schleswig-Holstein\, 24105\, Deutschland
END:VEVENT
BEGIN:VEVENT
DTSTART;TZID=Europe/Berlin:20220507T190000
DTEND;TZID=Europe/Berlin:20220507T220000
DTSTAMP:20220514T025925
CREATED:20220505T193350Z
LAST-MODIFIED:20220505T193350Z
UID:18986-1651950000-1651960800@www.spd-schleswig-holstein.de
SUMMARY:Kneipentour mit dem Ortsverein Eckernförde
DESCRIPTION:
URL:https://www.spd-schleswig-holstein.de/termin/kneipentour-mit-dem-ortsverein-eckernfoerde/
LOCATION:Landeshaus\, Düsternbrooker Weg 70\, Kiel\, Schleswig-Holstein\, 24105\, Deutschland
END:VEVENT
BEGIN:VEVENT
DTSTART;TZID=Europe/Berlin:20220507T160000
DTEND;TZID=Europe/Berlin:20220507T190000
DTSTAMP:20220514T025925
CREATED:20220505T193139Z
LAST-MODIFIED:20220505T193139Z
UID:18985-1651939200-1651950000@www.spd-schleswig-holstein.de
SUMMARY:Wahlkampf und Infostand mit Kevin Kühnert
DESCRIPTION:
URL:https://www.spd-schleswig-holstein.de/termin/wahlkampf-und-infostand-mit-kevin-kuehnert/
LOCATION:Landeshaus\, Düsternbrooker Weg 70\, Kiel\, Schleswig-Holstein\, 24105\, Deutschland
END:VEVENT
BEGIN:VEVENT
DTSTART;TZID=Europe/Berlin:20220507T143000
DTEND;TZID=Europe/Berlin:20220507T160000
DTSTAMP:20220514T025925
CREATED:20220505T192953Z
LAST-MODIFIED:20220505T192953Z
UID:18984-1651933800-1651939200@www.spd-schleswig-holstein.de
SUMMARY:Gespräche mit Bürger*innen in Eckernförde (vor Markant)
DESCRIPTION:
URL:https://www.spd-schleswig-holstein.de/termin/gespraeche-mit-buergerinnen-in-eckernfoerde-vor-markant/
LOCATION:Landeshaus\, Düsternbrooker Weg 70\, Kiel\, Schleswig-Holstein\, 24105\, Deutschland
END:VEVENT
BEGIN:VEVENT
DTSTART;TZID=Europe/Berlin:20220507T140000
DTEND;TZID=Europe/Berlin:20220507T170000
DTSTAMP:20220514T025925
CREATED:20220413T170458Z
LAST-MODIFIED:20220414T154657Z
UID:18769-1651932000-1651942800@www.spd-schleswig-holstein.de
SUMMARY:SPD Kiel: zentraler Infostand im CITTI-Park
DESCRIPTION:Wir werben für unsere Kandidierenden. Sei dabei und unterstütze uns. Es gibt Popcorn und Wurfspiele.
URL:https://www.spd-schleswig-holstein.de/termin/spd-kiel-zentraler-infostand-im-citti-park/
LOCATION:Landeshaus\, Düsternbrooker Weg 70\, Kiel\, Schleswig-Holstein\, 24105\, Deutschland
END:VEVENT
BEGIN:VEVENT
DTSTART;TZID=Europe/Berlin:20220507T113000
DTEND;TZID=Europe/Berlin:20220507T123000
DTSTAMP:20220514T025925
CREATED:20220505T192830Z
LAST-MODIFIED:20220505T192830Z
UID:18983-1651923000-1651926600@www.spd-schleswig-holstein.de
SUMMARY:Infostand und Gespräche mit Bürger*innen in Gettorf
DESCRIPTION:
URL:https://www.spd-schleswig-holstein.de/termin/infostand-und-gespraeche-mit-buergerinnen-in-gettorf/
LOCATION:Landeshaus\, Düsternbrooker Weg 70\, Kiel\, Schleswig-Holstein\, 24105\, Deutschland
END:VEVENT
BEGIN:VEVENT
DTSTART;TZID=Europe/Berlin:20220507T110000
DTEND;TZID=Europe/Berlin:20220507T123000
DTSTAMP:20220514T025925
CREATED:20220224T181502Z
LAST-MODIFIED:20220303T182900Z
UID:18059-1651921200-1651926600@www.spd-schleswig-holstein.de
SUMMARY:SPD Mettenhof/Hasseldieksdamm: Infostand
DESCRIPTION:
URL:https://www.spd-schleswig-holstein.de/termin/spd-mettenhof-hasseldieksdamm-infostand-2/
LOCATION:Landeshaus\, Düsternbrooker Weg 70\, Kiel\, Schleswig-Holstein\, 24105\, Deutschland
END:VEVENT
BEGIN:VEVENT
DTSTART;TZID=Europe/Berlin:20220507T100000
DTEND;TZID=Europe/Berlin:20220507T110000
DTSTAMP:20220514T025925
CREATED:20220505T192701Z
LAST-MODIFIED:20220505T221505Z
UID:18982-1651917600-1651921200@www.spd-schleswig-holstein.de
SUMMARY:Infostand und Gespräche mit Bürger*innen in Altenholz
DESCRIPTION:
URL:https://www.spd-schleswig-holstein.de/termin/infostand-und-gespraeche-mit-buergerinnen-in-altenholz/
LOCATION:Landeshaus\, Düsternbrooker Weg 70\, Kiel\, Schleswig-Holstein\, 24105\, Deutschland
END:VEVENT
BEGIN:VEVENT
DTSTART;TZID=Europe/Berlin:20220507T070000
DTEND;TZID=Europe/Berlin:20220507T093000
DTSTAMP:20220514T025925
CREATED:20220505T192532Z
LAST-MODIFIED:20220505T192532Z
UID:18981-1651906800-1651915800@www.spd-schleswig-holstein.de
SUMMARY:Wahlkampf und Gespräche mit Bürger*innen in Eckernförde
DESCRIPTION:
URL:https://www.spd-schleswig-holstein.de/termin/wahlkampf-und-gespraeche-mit-buergerinnen-in-eckernfoerde/
LOCATION:Landeshaus\, Düsternbrooker Weg 70\, Kiel\, Schleswig-Holstein\, 24105\, Deutschland
END:VEVENT
BEGIN:VEVENT
DTSTART;TZID=Europe/Berlin:20220506T203000
DTEND;TZID=Europe/Berlin:20220506T223000
DTSTAMP:20220514T025925
CREATED:20220503T194905Z
LAST-MODIFIED:20220503T195450Z
UID:18957-1651869000-1651876200@www.spd-schleswig-holstein.de
SUMMARY:Jusos Kiel: Kneipentour mit den Kandidierenden
DESCRIPTION:Wir ziehen durch die Kieler Kneipen\, um noch die letzten davon zu überzeugen\, dass sie SPD wählen sollen.
URL:https://www.spd-schleswig-holstein.de/termin/jusos-kiel-kneipentour-mit-den-kandidierenden/
LOCATION:Landeshaus\, Düsternbrooker Weg 70\, Kiel\, Schleswig-Holstein\, 24105\, Deutschland
END:VEVENT
BEGIN:VEVENT
DTSTART;TZID=Europe/Berlin:20220506T170000
DTEND;TZID=Europe/Berlin:20220506T190000
DTSTAMP:20220514T025925
CREATED:20220505T193550Z
LAST-MODIFIED:20220505T193550Z
UID:18987-1651856400-1651863600@www.spd-schleswig-holstein.de
SUMMARY:Wahlkampf-Kundgebung mit Bundeskanzler Olaf Scholz (Open Air und kostenlos)
DESCRIPTION:
URL:https://www.spd-schleswig-holstein.de/termin/wahlkampf-kundgebung-mit-bundeskanzler-olaf-scholz-open-air-und-kostenlos/
LOCATION:Landeshaus\, Düsternbrooker Weg 70\, Kiel\, Schleswig-Holstein\, 24105\, Deutschland
END:VEVENT
BEGIN:VEVENT
DTSTART;TZID=Europe/Berlin:20220506T163000
DTEND;TZID=Europe/Berlin:20220506T180000
DTSTAMP:20220514T025925
CREATED:20220414T160306Z
LAST-MODIFIED:20220428T192730Z
UID:18784-1651854600-1651860000@www.spd-schleswig-holstein.de
SUMMARY:SPD Kiel: Kundgebung mit Olaf Scholz
DESCRIPTION:Der Bundeskanzler Olaf Scholz kommt zum Wahlkampfendspurt nach Kiel. \n\nMit dabei: Benjamin Walczak\, Özlem Ünsal und Serpil Midyatli.\nUnd als special guests: Lars Klingbeil und Saskia Esken!\n\nWenn du dich im Kreisbüro per Mail an kv-kiel@nullspd.de anmeldest\, kannst du einen Sitzplatz vor der Bühne bekommen.
URL:https://www.spd-schleswig-holstein.de/termin/spd-kiel-kundgebung-mit-olaf-scholz/
LOCATION:Landeshaus\, Düsternbrooker Weg 70\, Kiel\, Schleswig-Holstein\, 24105\, Deutschland
END:VEVENT
BEGIN:VEVENT
DTSTART;TZID=Europe/Berlin:20220506T120000
DTEND;TZID=Europe/Berlin:20220506T133000
DTSTAMP:20220514T025925
CREATED:20220505T133711Z
LAST-MODIFIED:20220506T075453Z
UID:18978-1651838400-1651843800@www.spd-schleswig-holstein.de
SUMMARY:Wahlkampf in Neumünster
DESCRIPTION:
URL:https://www.spd-schleswig-holstein.de/termin/wahlkampf-in-neumuenster/
LOCATION:Landeshaus\, Düsternbrooker Weg 70\, Kiel\, Schleswig-Holstein\, 24105\, Deutschland
END:VEVENT
BEGIN:VEVENT
DTSTART;TZID=Europe/Berlin:20220505T163000
DTEND;TZID=Europe/Berlin:20220505T183000
DTSTAMP:20220514T025925
CREATED:20220505T133940Z
LAST-MODIFIED:20220505T133940Z
UID:18979-1651768200-1651775400@www.spd-schleswig-holstein.de
SUMMARY:Kundgebung mit Bundeskanzler Olaf Scholz in Kiel
DESCRIPTION:
URL:https://www.spd-schleswig-holstein.de/termin/kundgebung-mit-bundeskanzler-olaf-scholz-in-kiel/
LOCATION:Landeshaus\, Düsternbrooker Weg 70\, Kiel\, Schleswig-Holstein\, 24105\, Deutschland
END:VEVENT
BEGIN:VEVENT
DTSTART;TZID=Europe/Berlin:20220505T160000
DTEND;TZID=Europe/Berlin:20220505T173000
DTSTAMP:20220514T025925
CREATED:20220505T133623Z
LAST-MODIFIED:20220505T133623Z
UID:18977-1651766400-1651771800@www.spd-schleswig-holstein.de
SUMMARY:Besuch und Vortrag auf dem Windbranchentag in Husum
DESCRIPTION:
URL:https://www.spd-schleswig-holstein.de/termin/besuch-und-vortrag-auf-dem-windbranchentag-in-husum/
LOCATION:Landeshaus\, Düsternbrooker Weg 70\, Kiel\, Schleswig-Holstein\, 24105\, Deutschland
END:VEVENT
BEGIN:VEVENT
DTSTART;TZID=Europe/Berlin:20220505T143000
DTEND;TZID=Europe/Berlin:20220505T160000
DTSTAMP:20220514T025925
CREATED:20220505T133525Z
LAST-MODIFIED:20220505T133525Z
UID:18976-1651761000-1651766400@www.spd-schleswig-holstein.de
SUMMARY:Wahlkampf in Husum mit Marc Timmer
DESCRIPTION:
URL:https://www.spd-schleswig-holstein.de/termin/wahlkampf-in-husum-mit-marc-timmer/
LOCATION:Landeshaus\, Düsternbrooker Weg 70\, Kiel\, Schleswig-Holstein\, 24105\, Deutschland
END:VEVENT
BEGIN:VEVENT
DTSTART;TZID=Europe/Berlin:20220504T210000
DTEND;TZID=Europe/Berlin:20220504T213000
DTSTAMP:20220514T025925
CREATED:20220505T133403Z
LAST-MODIFIED:20220505T133403Z
UID:18974-1651698000-1651699800@www.spd-schleswig-holstein.de
SUMMARY:TV-Triell im NDR
DESCRIPTION:
URL:https://www.spd-schleswig-holstein.de/termin/tv-triell-im-ndr/
LOCATION:Landeshaus\, Düsternbrooker Weg 70\, Kiel\, Schleswig-Holstein\, 24105\, Deutschland
END:VEVENT
BEGIN:VEVENT
DTSTART;TZID=Europe/Berlin:20220504T183000
DTEND;TZID=Europe/Berlin:20220504T230000
DTSTAMP:20220514T025925
CREATED:20220410T182938Z
LAST-MODIFIED:20220503T194914Z
UID:18709-1651689000-1651705200@www.spd-schleswig-holstein.de
SUMMARY:SPD Kiel und Jusos SH: Public Viewing zum Wahltriell im NDR
DESCRIPTION:Der NDR lädt zum Wahl-Triell ein: Thomas Losse-Müller (SPD) trifft auf Daniel Günther (CDU) und Monika Heinold (Bündnis 90/Die Grünen). Wir unterstützen unseren Spitzenkandidaten: \n\nUm 18.30 Uhr treffen wir uns an der Kiellinie (Höhe Cotidiano)\, um Plakate vorzubereiten.\nUm 19.30 Uhr empfangen wir Thomas mit donnerndem Applaus vor dem Landtag\nUm 20.00 Uhr gehen wir dann ins Walter-Damm-Haus\, Kleiner Kuhberg 28-30\, und verfolgen die Live-Übertragung vom NDR-Fernsehen mit einem Quiz und vielen Getränken.
URL:https://www.spd-schleswig-holstein.de/termin/spd-kiel-und-jusos-sh-public-viewing-kandidierendentriell-im-ndr/
LOCATION:Landeshaus\, Düsternbrooker Weg 70\, Kiel\, Schleswig-Holstein\, 24105\, Deutschland
END:VEVENT
BEGIN:VEVENT
DTSTART;TZID=Europe/Berlin:20220504T183000
DTEND;TZID=Europe/Berlin:20220504T223000
DTSTAMP:20220514T025925
CREATED:20220429T131504Z
LAST-MODIFIED:20220503T214145Z
UID:18916-1651689000-1651703400@www.spd-schleswig-holstein.de
SUMMARY:Public-Viewing für das NDR-Triell
DESCRIPTION:Liebe Jusos\, \nnachdem das NDR-Triell leider wegen der Corona-Erkrankung von Daniel Günther abgesagt werden musste\, starten wir einen neuen Versuch am Mittwoch\, den 04.05. Dieses Mal findet das Triell im Landtag in Kiel statt.\nWir treffen uns deswegen um 18.30 Uhr an der Reventloubrücke in Kiel\, um gemeinsam Plakate\, Schilder und andere Ideen vorzubereiten\, oder um 19.30 Uhr direkt am Landtag\, um Thomas zu begrüßen. Danach werden wir das Triell gemeinsam in der SPD-Landesgeschäftsstelle verfolgen. \nBitte meldet euch für die Planung hier an: \n  \n\nZu diesem Inhalt gibt es ein Formular. \nFormular aufrufen \n\n  \n 
URL:https://www.spd-schleswig-holstein.de/termin/public-viewing-fuer-das-ndr-triell/
LOCATION:Landeshaus\, Düsternbrooker Weg 70\, Kiel\, Schleswig-Holstein\, 24105\, Deutschland
END:VEVENT
BEGIN:VEVENT
DTSTART;TZID=Europe/Berlin:20220504T140000
DTEND;TZID=Europe/Berlin:20220504T160000
DTSTAMP:20220514T025925
CREATED:20220505T133442Z
LAST-MODIFIED:20220505T133442Z
UID:18975-1651672800-1651680000@www.spd-schleswig-holstein.de
SUMMARY:Wahlkampf an der Kiellinie
DESCRIPTION:
URL:https://www.spd-schleswig-holstein.de/termin/wahlkampf-an-der-kiellinie/
LOCATION:Landeshaus\, Düsternbrooker Weg 70\, Kiel\, Schleswig-Holstein\, 24105\, Deutschland
END:VEVENT
BEGIN:VEVENT
DTSTART;TZID=Europe/Berlin:20220503T190000
DTEND;TZID=Europe/Berlin:20220503T203000
DTSTAMP:20220514T025925
CREATED:20220427T092704Z
LAST-MODIFIED:20220427T092704Z
UID:18864-1651604400-1651609800@www.spd-schleswig-holstein.de
SUMMARY:Thomas Losse-Müller in Lübeck
DESCRIPTION:Frische Ideen. Neuer Ministerpräsident\nIn Schleswig-Holstein muss sich etwas ändern: Unser Land verfehlt immer noch seine Klimaziele. Wir haben die niedrigsten Löhne aller westlichen Bundesländer. Mieten und Grundstückspreise sind in den letzten Jahren enorm gestiegen und noch immer mangelt es in den Schulen an digitalen Geräten. Und wir sind das einzige Land im Norden\, in dem es noch Kita-Gebühren gibt. \nWir brauchen endlich eine Landesregierung\, die unsere Heimat sozialer\, digitaler und klimafreundlicher macht. \n  \nSPRECHEN SIE MIT MIR ÜBER MEINEN PLAN FÜR SCHLESWIG-HOLSTEIN! \n  \nThomas Losse-Müller \n\n  \n  \n  \n👉 Einlass ab 18:30 \n\nEs gilt 2G+ und Maskenpflicht ❗\nmusikalische Begleitung durch Richard Wester (Saxophon) & Kerstin Sund (Gitarre) \nHygienekonzept
URL:https://www.spd-schleswig-holstein.de/termin/thomas-losse-mueller-in-luebeck/
LOCATION:Landeshaus\, Düsternbrooker Weg 70\, Kiel\, Schleswig-Holstein\, 24105\, Deutschland
ATTACH;FMTTYPE=image/png:https://www.spd-schleswig-holstein.de/wp-content/uploads/sites/432/2022/04/l-beck-0305-facebook-event.png
END:VEVENT
BEGIN:VEVENT
DTSTART;TZID=Europe/Berlin:20220502T190000
DTEND;TZID=Europe/Berlin:20220502T203000
DTSTAMP:20220514T025925
CREATED:20220505T133023Z
LAST-MODIFIED:20220505T133023Z
UID:18973-1651518000-1651523400@www.spd-schleswig-holstein.de
SUMMARY:Thomas Tour in Husum
DESCRIPTION:
URL:https://www.spd-schleswig-holstein.de/termin/thomas-tour-in-husum/
LOCATION:Landeshaus\, Düsternbrooker Weg 70\, Kiel\, Schleswig-Holstein\, 24105\, Deutschland
END:VEVENT
BEGIN:VEVENT
DTSTART;TZID=Europe/Berlin:20220502T190000
DTEND;TZID=Europe/Berlin:20220502T203000
DTSTAMP:20220514T025925
CREATED:20220410T110831Z
LAST-MODIFIED:20220412T112546Z
UID:18664-1651518000-1651523400@www.spd-schleswig-holstein.de
SUMMARY:Thomas Losse-Müller in Husum
DESCRIPTION:Frische Ideen. Neuer Ministerpräsident\nIn Schleswig-Holstein muss sich etwas ändern: Unser Land verfehlt immer noch seine Klimaziele. Wir haben die niedrigsten Löhne aller westlichen Bundesländer. Mieten und Grundstückspreise sind in den letzten Jahren enorm gestiegen und noch immer mangelt es in den Schulen an digitalen Geräten. Und wir sind das einzige Land im Norden\, in dem es noch Kita-Gebühren gibt. \nWir brauchen endlich eine Landesregierung\, die unsere Heimat sozialer\, digitaler und klimafreundlicher macht. \n  \nSPRECHEN SIE MIT MIR ÜBER MEINEN PLAN FÜR SCHLESWIG-HOLSTEIN! \n  \nThomas Losse-Müller \n\n  \n  \n  \n👉 Einlass ab 18:30 \n\nEs gilt 2G+ und Maskenpflicht ❗\nmusikalische Begleitung durch Richard Wester (Saxophon) & Taleja Grossmann (Keyboard) \nHygienekonzept
URL:https://www.spd-schleswig-holstein.de/termin/thomas-losse-mueller-in-husum/
LOCATION:Landeshaus\, Düsternbrooker Weg 70\, Kiel\, Schleswig-Holstein\, 24105\, Deutschland
ATTACH;FMTTYPE=image/png:https://www.spd-schleswig-holstein.de/wp-content/uploads/sites/432/2022/04/husum-0205-facebook.png
END:VEVENT
BEGIN:VEVENT
DTSTART;TZID=Europe/Berlin:20220502T120000
DTEND;TZID=Europe/Berlin:20220502T150000
DTSTAMP:20220514T025925
CREATED:20220505T132945Z
LAST-MODIFIED:20220505T132945Z
UID:18972-1651492800-1651503600@www.spd-schleswig-holstein.de
SUMMARY:Besuch in Bad Oldesloe und Kiel mit Bundesministerin Klara Geywitz
DESCRIPTION:
URL:https://www.spd-schleswig-holstein.de/termin/besuch-in-bad-oldesloe-und-kiel-mit-bundesministerin-klara-geywitz/
LOCATION:Landeshaus\, Düsternbrooker Weg 70\, Kiel\, Schleswig-Holstein\, 24105\, Deutschland
END:VEVENT
BEGIN:VEVENT
DTSTART;TZID=Europe/Berlin:20220501T103000
DTEND;TZID=Europe/Berlin:20220501T120000
DTSTAMP:20220514T025925
CREATED:20220428T033254Z
LAST-MODIFIED:20220428T033254Z
UID:18879-1651401000-1651406400@www.spd-schleswig-holstein.de
SUMMARY:1.Mai in Itzehoe
DESCRIPTION:
URL:https://www.spd-schleswig-holstein.de/termin/1-mai-in-itzehoe/
LOCATION:Landeshaus\, Düsternbrooker Weg 70\, Kiel\, Schleswig-Holstein\, 24105\, Deutschland
END:VEVENT
BEGIN:VEVENT
DTSTART;TZID=Europe/Berlin:20220501T093000
DTEND;TZID=Europe/Berlin:20220501T120000
DTSTAMP:20220514T025925
CREATED:20220410T072245Z
LAST-MODIFIED:20220410T072245Z
UID:18624-1651397400-1651406400@www.spd-schleswig-holstein.de
SUMMARY:SPD Kiel: 1. Mai Demo
DESCRIPTION:Aufruf zum Tag der Arbeit\n9.30 Uhr Treffpunkt Exerzierplatz\n10.00 Uhr Demonstration durch die Stadt\n10.45 Uhr Kundgebung auf dem Exerzierplatz \nProgramm\nFrank Hornschu\, Regionsgeschäftsführer DGB Kiel Region\nBegrüßung \nSusanne Schöttke\, Landesbezirksvorsitzende ver.di Nord\nMairede
URL:https://www.spd-schleswig-holstein.de/termin/spd-kiel-1-mai-demo/
LOCATION:Landeshaus\, Düsternbrooker Weg 70\, Kiel\, Schleswig-Holstein\, 24105\, Deutschland
END:VEVENT
END:VCALENDAR