BEGIN:VCALENDAR
VERSION:2.0
PRODID:-//SPD Schleswig-Holstein. - ECPv5.14.1//NONSGML v1.0//EN
CALSCALE:GREGORIAN
METHOD:PUBLISH
X-WR-CALNAME:SPD Schleswig-Holstein.
X-ORIGINAL-URL:https://www.spd-schleswig-holstein.de
X-WR-CALDESC:Veranstaltungen für SPD Schleswig-Holstein.
REFRESH-INTERVAL;VALUE=DURATION:PT1H
X-Robots-Tag:noindex
X-PUBLISHED-TTL:PT1H
BEGIN:VTIMEZONE
TZID:Europe/Berlin
BEGIN:DAYLIGHT
TZOFFSETFROM:+0100
TZOFFSETTO:+0200
TZNAME:CEST
DTSTART:20220327T010000
END:DAYLIGHT
BEGIN:STANDARD
TZOFFSETFROM:+0200
TZOFFSETTO:+0100
TZNAME:CET
DTSTART:20221030T010000
END:STANDARD
END:VTIMEZONE
BEGIN:VEVENT
DTSTART;VALUE=DATE:20220520
DTEND;VALUE=DATE:20220523
DTSTAMP:20220514T014405
CREATED:20220425T093128Z
LAST-MODIFIED:20220429T101049Z
UID:18841-1653004800-1653263999@www.spd-schleswig-holstein.de
SUMMARY:FINTA-Empowerment Wochenende
DESCRIPTION:Liebe Jusos\, \nSeit einigen Jahren existiert nun unser FINTA-Netzwerk\, welches einen geschützten Raum in dem FINTA (female\, inter\, non-binary\, trans\, agender) Personen bietet\, in dem sie über alle möglichen Themen sprechen können. Seit dem trifft sich das Netzwerk regelmäßig\, um diesen Raum zu schaffen und um sich zu vernetzen. Zum ersten Mal soll nun in Schleswig-Holstein ein Empowerment Wochenende nur für FINTA Personen stattfinden\, wie es bereits auf Bundesebene durchgeführt wurden ist. \nDas FINTA-Empowerment Wochenende findet vom 20.-22.04 in der Gustav Heinemann Bildungsstätte in Bad Malente (Schweizer Str. 58\, 23714 Malente) statt. Ihr könnt euch aber auch nur für einen oder zwei Tage anmelden. Diejenigen die alle drei Tage bleiben\, können in Malente übernachten. Für das Seminar gilt\, Stand jetzt\, die 2G-Regelung. Ihr müsst also geimpft oder genesen sein. Diese Regelung wurde vom Haus selbst bestimmt\, das ihr hier nachlesen könnt: \nBei diesem Empowerment Wochenende konzentrieren wir uns in den drei Tagen auf die Vernetzung untereinander und auch mit anderen FINTA-Personen\, welche wir zu uns einladen wollen. Wir wollen uns aber auch inhaltlich fit machen und uns mit verschiedenen Themen rund um den Feminismus beschäftigen. \nLos geht´s am Freitag um 18 Uhr\, am Sonntag wird die Abreise nach jetzigem Stand am Nachmittag sein. \nDie Anmeldung ist bis zum 16.05 geöffnet. Zur Anmeldung geht es unten über das Formular. \nBei Fragen meldet euch einfach bei Amal Allouch (a.allouch@nulljusos-sh.de). \nWir freuen uns auf ein schönes Wochenende mit euch! \n  \n\nZu diesem Inhalt gibt es ein Formular. \nFormular aufrufen
URL:https://www.spd-schleswig-holstein.de/termin/frauen-empowerment-wochenende/
LOCATION:Landeshaus\, Düsternbrooker Weg 70\, Kiel\, Schleswig-Holstein\, 24105\, Deutschland
END:VEVENT
BEGIN:VEVENT
DTSTART;TZID=Europe/Berlin:20220607T100000
DTEND;TZID=Europe/Berlin:20220607T180000
DTSTAMP:20220514T014405
CREATED:20220511T082952Z
LAST-MODIFIED:20220511T082952Z
UID:19027-1654596000-1654624800@www.spd-schleswig-holstein.de
SUMMARY:Landtagssitzung Juni (1)
DESCRIPTION:🚩Aktueller Zeitplan\n  \n🚩Livestream\n 
URL:https://www.spd-schleswig-holstein.de/termin/landtagssitzung-juni-1/
LOCATION:Landeshaus\, Düsternbrooker Weg 70\, Kiel\, Schleswig-Holstein\, 24105\, Deutschland
END:VEVENT
BEGIN:VEVENT
DTSTART;TZID=Europe/Berlin:20220612T100000
DTEND;TZID=Europe/Berlin:20220612T160000
DTSTAMP:20220514T014405
CREATED:20220408T144643Z
LAST-MODIFIED:20220414T070311Z
UID:18616-1655028000-1655049600@www.spd-schleswig-holstein.de
SUMMARY:SPD Kiel: Kreisparteitag
DESCRIPTION:Wir laden ein zum ordentlichen Kreisparteitag am 12. Juni 2022 \nVorgeschlagene Tagesordnung\n\nEröffnung und Begrüßung\nWahl des Präsidiums\nBeschluss über die Tages- und Geschäftsordnung\nWahl der Kommissionen\n\nMandatsprüfungskommission\nZählkommissionen\n\n\nFeststellung der Beschlussfähigkeit\nNachwahl einer Beisitzerin / eines Beisitzers im Kreisvorstand\nWahl der Landesparteiratsdelegierten\nAntragsberatung\n\nAntrag zur Satzung der Kieler SPD\nAntrag über das Verfahren zum Kommunalwahlprogramm\nWeitere Anträge\n\n\nSchlusswort\n\nFristen\nAnträge müssen gem. §10\, Ziffer 3\, Berichte gem. §13\, Ziffer 1 unserer Satzung mindestens 14 Tage vor dem Kreisparteitag bei den Delegierten eingegangen sein\, d.h. der Antragsschluss für diesen Kreisparteitag ist der 14. Mai 2022 (4 Wochen vorher). Auch die Bewerbungen sollten bis dahin schriftlich eingegangen sein\, sind aber selbstverständlich bis zur Wahl selber möglich.\nAntragsberechtigt sind der Kreisvorstand\, der Kreisausschuss\, die Ortsvereine und die Arbeitsgemeinschaften\, Arbeitskreise und Projektgruppen. \nDie Berichte der Kontrollkommission\, des Kreisausschusses\, der Arbeitsgemeinschaften\, der Ratsfraktion\, der Landtagsabgeordneten und des Bundestagsabgeordneten erbitten wir ebenfalls zum 14. Mai 2022. Die Schiedskommission kann auf eigenen Wunsch berichten. \nNeue Delegierte\nSolltet ihr in eurem Ortsverein oder in der Arbeitsgemeinschaft neue Delegierte seit dem letzten Kreisparteitag gewählt und noch nicht gemeldet haben\, meldet sie bitte umgehend an das Kreisbüro (KV-Kiel@nullspd.de)\, damit den Delegierten die Unterlagen rechtzeitig zugehen. \nAbstands- und Hygieneregeln aufgrund von Corona\nAufgrund der schwer vorhersehbaren Pandemie-Lage bereiten wir alles nach geltenden Abstands- und Hygieneregeln vor. Zum jetzigen Zeitpunkt gehen wir davon aus\, dass die 3G-Regel gültig sein wird\, das heißt\, die Teilnahme wird nur gewährt bei Nachweis einer vollständigen Impfung oder Genesung oder eines aktuellen beglaubigten Tests. \nAnpassungen hierzu behalten wir uns je nach epidemischer Lage und den zum Zeitpunkt des Kreisparteitags aktuellen gesetzlichen Vorgaben vor. Nähere Informationen dazu erhaltet ihr in der Einladung. \nGäste\nNach heutigem Stand sind Gäste willkommen. Auch hier müssen wir die Corona-Entwicklung im Auge behalten und behalten uns kurzfristige Änderungen vor. \nAnlagen\n2022-06-12 Vorläufige-Tagesordnung KPT \n2022-06-12 Geschäftsordnung KPT \nSPD Kiel Satzungsänderungen Antrag Kreisvorstand \nSPD Kiel Verfahren Kommunalwahlprogramm 2023 Antrag Kreisvorstand
URL:https://www.spd-schleswig-holstein.de/termin/spd-kiel-kreisparteitag/
LOCATION:Landeshaus\, Düsternbrooker Weg 70\, Kiel\, Schleswig-Holstein\, 24105\, Deutschland
END:VEVENT
BEGIN:VEVENT
DTSTART;TZID=Europe/Berlin:20220614T193000
DTEND;TZID=Europe/Berlin:20220614T213000
DTSTAMP:20220514T014405
CREATED:20190901T152851Z
LAST-MODIFIED:20220413T171337Z
UID:18050-1655235000-1655242200@www.spd-schleswig-holstein.de
SUMMARY:SPD Kiel: Kreisvorstandssitzung
DESCRIPTION:
URL:https://www.spd-schleswig-holstein.de/termin/spd-kiel-kreisvorstandssitzung-5/
LOCATION:Landeshaus\, Düsternbrooker Weg 70\, Kiel\, Schleswig-Holstein\, 24105\, Deutschland
END:VEVENT
BEGIN:VEVENT
DTSTART;TZID=Europe/Berlin:20220629T080000
DTEND;TZID=Europe/Berlin:20220701T170000
DTSTAMP:20220514T014405
CREATED:20220511T083005Z
LAST-MODIFIED:20220511T083005Z
UID:19028-1656489600-1656694800@www.spd-schleswig-holstein.de
SUMMARY:Landtagssitzung Juni (2)
DESCRIPTION:🚩Aktueller Zeitplan\n  \n🚩Livestream\n 
URL:https://www.spd-schleswig-holstein.de/termin/landtagssitzung-juni-2/
LOCATION:Landeshaus\, Düsternbrooker Weg 70\, Kiel\, Schleswig-Holstein\, 24105\, Deutschland
END:VEVENT
BEGIN:VEVENT
DTSTART;TZID=Europe/Berlin:20220712T193000
DTEND;TZID=Europe/Berlin:20220712T213000
DTSTAMP:20220514T014405
CREATED:20190901T152851Z
LAST-MODIFIED:20220413T171338Z
UID:18051-1657654200-1657661400@www.spd-schleswig-holstein.de
SUMMARY:SPD Kiel: Kreisvorstandssitzung
DESCRIPTION:
URL:https://www.spd-schleswig-holstein.de/termin/spd-kiel-kreisvorstandssitzung-6/
LOCATION:Landeshaus\, Düsternbrooker Weg 70\, Kiel\, Schleswig-Holstein\, 24105\, Deutschland
END:VEVENT
BEGIN:VEVENT
DTSTART;TZID=Europe/Berlin:20220809T193000
DTEND;TZID=Europe/Berlin:20220809T213000
DTSTAMP:20220514T014405
CREATED:20190901T152851Z
LAST-MODIFIED:20220413T171342Z
UID:18052-1660073400-1660080600@www.spd-schleswig-holstein.de
SUMMARY:SPD Kiel: Kreisvorstandssitzung
DESCRIPTION:
URL:https://www.spd-schleswig-holstein.de/termin/spd-kiel-kreisvorstandssitzung-7/
LOCATION:Landeshaus\, Düsternbrooker Weg 70\, Kiel\, Schleswig-Holstein\, 24105\, Deutschland
END:VEVENT
BEGIN:VEVENT
DTSTART;TZID=Europe/Berlin:20220831T080000
DTEND;TZID=Europe/Berlin:20220902T170000
DTSTAMP:20220514T014405
CREATED:20220511T083014Z
LAST-MODIFIED:20220511T083014Z
UID:19030-1661932800-1662138000@www.spd-schleswig-holstein.de
SUMMARY:Landtagssitzung August
DESCRIPTION:🚩Aktueller Zeitplan\n  \n🚩Livestream\n 
URL:https://www.spd-schleswig-holstein.de/termin/landtagssitzung-august/
LOCATION:Landeshaus\, Düsternbrooker Weg 70\, Kiel\, Schleswig-Holstein\, 24105\, Deutschland
END:VEVENT
BEGIN:VEVENT
DTSTART;TZID=Europe/Berlin:20220913T193000
DTEND;TZID=Europe/Berlin:20220913T213000
DTSTAMP:20220514T014405
CREATED:20190901T152851Z
LAST-MODIFIED:20190901T152851Z
UID:18771-1663097400-1663104600@www.spd-schleswig-holstein.de
SUMMARY:SPD Kiel: Kreisvorstandssitzung
DESCRIPTION:
URL:https://www.spd-schleswig-holstein.de/termin/spd-kiel-kreisvorstandssitzung-8/
LOCATION:Landeshaus\, Düsternbrooker Weg 70\, Kiel\, Schleswig-Holstein\, 24105\, Deutschland
END:VEVENT
BEGIN:VEVENT
DTSTART;TZID=Europe/Berlin:20220928T080000
DTEND;TZID=Europe/Berlin:20220930T170000
DTSTAMP:20220514T014405
CREATED:20220511T083020Z
LAST-MODIFIED:20220511T083020Z
UID:19031-1664352000-1664557200@www.spd-schleswig-holstein.de
SUMMARY:Landtagssitzung September
DESCRIPTION:🚩Aktueller Zeitplan\n  \n🚩Livestream\n 
URL:https://www.spd-schleswig-holstein.de/termin/landtagssitzung-september/
LOCATION:Landeshaus\, Düsternbrooker Weg 70\, Kiel\, Schleswig-Holstein\, 24105\, Deutschland
END:VEVENT
BEGIN:VEVENT
DTSTART;TZID=Europe/Berlin:20221011T193000
DTEND;TZID=Europe/Berlin:20221011T213000
DTSTAMP:20220514T014405
CREATED:20190901T152851Z
LAST-MODIFIED:20190901T152851Z
UID:18772-1665516600-1665523800@www.spd-schleswig-holstein.de
SUMMARY:SPD Kiel: Kreisvorstandssitzung
DESCRIPTION:
URL:https://www.spd-schleswig-holstein.de/termin/spd-kiel-kreisvorstandssitzung-9/
LOCATION:Landeshaus\, Düsternbrooker Weg 70\, Kiel\, Schleswig-Holstein\, 24105\, Deutschland
END:VEVENT
BEGIN:VEVENT
DTSTART;TZID=Europe/Berlin:20221123T080000
DTEND;TZID=Europe/Berlin:20221125T170000
DTSTAMP:20220514T014405
CREATED:20220511T083025Z
LAST-MODIFIED:20220511T083025Z
UID:19032-1669190400-1669395600@www.spd-schleswig-holstein.de
SUMMARY:Landtagssitzung November
DESCRIPTION:🚩Aktueller Zeitplan\n  \n🚩Livestream\n 
URL:https://www.spd-schleswig-holstein.de/termin/landtagssitzung-november-2/
LOCATION:Landeshaus\, Düsternbrooker Weg 70\, Kiel\, Schleswig-Holstein\, 24105\, Deutschland
END:VEVENT
BEGIN:VEVENT
DTSTART;TZID=Europe/Berlin:20221214T080000
DTEND;TZID=Europe/Berlin:20221216T170000
DTSTAMP:20220514T014405
CREATED:20220511T083029Z
LAST-MODIFIED:20220511T083725Z
UID:19029-1671004800-1671210000@www.spd-schleswig-holstein.de
SUMMARY:Landtagssitzung Dezember
DESCRIPTION:🚩Aktueller Zeitplan\n  \n🚩Livestream\n 
URL:https://www.spd-schleswig-holstein.de/termin/landtagssitzung-dezember-3/
LOCATION:Landeshaus\, Düsternbrooker Weg 70\, Kiel\, Schleswig-Holstein\, 24105\, Deutschland
END:VEVENT
END:VCALENDAR